BEGIN:VCALENDAR
VERSION:2.0
PRODID:icalendar-ruby
CALSCALE:GREGORIAN
METHOD:PUBLISH
BEGIN:VEVENT
DTSTAMP:20260423T133943Z
UID:182-3208442@can.southgatealliance.net
DTSTART:20260510T170000Z
DTEND:20260510T181500Z
CLASS:PUBLIC
CREATED:20260422T150747
DESCRIPTION:「夢想飛行宣教」分享\n有關講員 Ken Leung 的資
 料:\nhttps://maf.ca/missionaries/leung#chinese\nhttps://www.youtube.com/w
 atch?si=o0nJJ8RlTQHNAEyE&amp\;v=qmLjRZ66wpY&amp\;feature=youtu.be\n 
LAST-MODIFIED:20260422T150747
LOCATION:教會
SUMMARY:「夢想飛行宣教」分享
URL;VALUE=URI:https://can.southgatealliance.net/events/182/2026-05-10
ATTACH;FILENAME=May 10 2026 飛行事工.jpg;FMTTYPE=image/jpeg:https://dq5
 pwpg1q8ru0.cloudfront.net/2026/04/22/21/07/23/d476b4d5-c064-465e-afab-3012
 51a95ac9/May%2010%202026%20%E9%A3%9B%E8%A1%8C%E4%BA%8B%E5%B7%A5.jpg
END:VEVENT
END:VCALENDAR
